BEGIN:VCALENDAR
VERSION:2.0
PRODID:-//Godba Dobrova - Polhov Gradec - ECPv6.15.20//NONSGML v1.0//EN
CALSCALE:GREGORIAN
METHOD:PUBLISH
X-WR-CALNAME:Godba Dobrova - Polhov Gradec
X-ORIGINAL-URL:https://www.godbadpg.si
X-WR-CALDESC:Dogodki za Godba Dobrova - Polhov Gradec
REFRESH-INTERVAL;VALUE=DURATION:PT1H
X-Robots-Tag:noindex
X-PUBLISHED-TTL:PT1H
BEGIN:VTIMEZONE
TZID:Africa/Abidjan
BEGIN:STANDARD
TZOFFSETFROM:+0000
TZOFFSETTO:+0000
TZNAME:GMT
DTSTART:20240101T000000
END:STANDARD
END:VTIMEZONE
BEGIN:VEVENT
DTSTART;TZID=Africa/Abidjan:20250531T180000
DTEND;TZID=Africa/Abidjan:20250531T200000
DTSTAMP:20260419T140431
CREATED:20250322T181959Z
LAST-MODIFIED:20250322T181959Z
UID:2503-1748714400-1748721600@www.godbadpg.si
SUMMARY:Parada PGD Brezje
DESCRIPTION:Letos bomo sodelovali na kar nekaj gasilskih paradah. \nEna od njih je tudi pri PGD Brezje. \nPridite nas poslušati😜.
URL:https://www.godbadpg.si/dogodek/parada-pgd-brezje/
LOCATION:PGD Brezje\, Brezje pri Dobrovi 57\, 1356 Dobrova\, Brezje pri Dobrovi\, Slovenija\, 1356\, Slovenia
END:VEVENT
END:VCALENDAR