BEGIN:VCALENDAR
VERSION:2.0
PRODID:-//Godba Dobrova - Polhov Gradec - ECPv6.15.20//NONSGML v1.0//EN
CALSCALE:GREGORIAN
METHOD:PUBLISH
X-WR-CALNAME:Godba Dobrova - Polhov Gradec
X-ORIGINAL-URL:https://www.godbadpg.si
X-WR-CALDESC:Dogodki za Godba Dobrova - Polhov Gradec
REFRESH-INTERVAL;VALUE=DURATION:PT1H
X-Robots-Tag:noindex
X-PUBLISHED-TTL:PT1H
BEGIN:VTIMEZONE
TZID:Africa/Abidjan
BEGIN:STANDARD
TZOFFSETFROM:+0000
TZOFFSETTO:+0000
TZNAME:GMT
DTSTART:20230101T000000
END:STANDARD
END:VTIMEZONE
BEGIN:VEVENT
DTSTART;TZID=Africa/Abidjan:20250302T000000
DTEND;TZID=Africa/Abidjan:20250302T000000
DTSTAMP:20260419T233038
CREATED:20250209T184727Z
LAST-MODIFIED:20250215T172802Z
UID:2368-1740873600-1740873600@www.godbadpg.si
SUMMARY:Pustovanje 2025 na Dobrovi
DESCRIPTION:Letos bo kar že tretje leto zaporedoma pustovanje na Dobrovi. \nKot že velikokrat bo tam igrala tudi godba. \nČe te mika\, da bi nas prišel poslušati je zdaj pravi čas da nas prideš poslušati.
URL:https://www.godbadpg.si/dogodek/pustovanje-2025-na-dobrovi/
LOCATION:Občina Dobrova – Polhov Gradec\, Slovenija
ATTACH;FMTTYPE=image/png:https://www.godbadpg.si/wp-content/uploads/2025/01/image-10.png
ORGANIZER;CN="Godba Dobrova - Polhov Gradec":MAILTO:godba.dpg@gmail.com
END:VEVENT
BEGIN:VEVENT
DTSTART;TZID=Africa/Abidjan:20250208T190000
DTEND;TZID=Africa/Abidjan:20250208T230000
DTSTAMP:20260419T233038
CREATED:20241112T160247Z
LAST-MODIFIED:20241122T182322Z
UID:1976-1739041200-1739055600@www.godbadpg.si
SUMMARY:Valentinov ples z Godbo Dobrova-Polhov Gradec in Katarino Venturini
DESCRIPTION:Letos bomo prvič imeli Valentinov ples v Športni dvorani Dobrova. \nImeli bomo prav posebno gostjo Katarino Venturini. \nCel spektakel se bo plesalo👯‍♂️\, jedlo🍕 in pilo🥂. \nPridružite se nam tudi vi. \nSpremljajte nas na družbenih omrežjih🤳.
URL:https://www.godbadpg.si/dogodek/valentinov-ples-z-godbo-dobrova-polhov-gradec-in-katarino-venturini/
LOCATION:Športna dvorana Dobrova\, Cesta 7. maja 20\, 1356 Dobrova\, Dobrova\, Slovenija\, 1356\, Slovenija
ATTACH;FMTTYPE=application/pdf:https://www.godbadpg.si/wp-content/uploads/2024/11/Ples-2025_plakat_A2-420x600mm-1.pdf
ORGANIZER;CN="Godba Dobrova - Polhov Gradec":MAILTO:godba.dpg@gmail.com
END:VEVENT
BEGIN:VEVENT
DTSTART;TZID=Africa/Abidjan:20241020T170000
DTEND;TZID=Africa/Abidjan:20241020T170000
DTSTAMP:20260419T233038
CREATED:20240320T160220Z
LAST-MODIFIED:20241005T125926Z
UID:1253-1729443600-1729443600@www.godbadpg.si
SUMMARY:Noč godbe - 2024 - Ponovitev
DESCRIPTION:V nedeljo 20. oktobra bomo imeli ponovitev Noči godbe 2024. \nSledite nam na družbenih omrežjih in izvedite še več informacij 😊
URL:https://www.godbadpg.si/dogodek/noc-godbe-2024-ponovitev/
LOCATION:Športna dvorana Dobrova\, Cesta 7. maja 20\, 1356 Dobrova\, Dobrova\, Slovenija\, 1356\, Slovenija
ATTACH;FMTTYPE=image/jpeg:https://www.godbadpg.si/wp-content/uploads/2024/03/9056_1699726888_1-zakljunapesemvsehnastopajoih.jpg
ORGANIZER;CN="Godba Dobrova - Polhov Gradec":MAILTO:godba.dpg@gmail.com
END:VEVENT
BEGIN:VEVENT
DTSTART;TZID=Africa/Abidjan:20241018T193000
DTEND;TZID=Africa/Abidjan:20241018T213000
DTSTAMP:20260419T233038
CREATED:20240320T160212Z
LAST-MODIFIED:20241005T125849Z
UID:1250-1729279800-1729287000@www.godbadpg.si
SUMMARY:Noč godbe - 2024 - Premiera
DESCRIPTION:Kmalu bo Noč godbe 2024!\nKot že nekaj let bomo tudi letos koncert ponovili v nedeljo in sicer 20. oktobra. \nLepo vabljeni k ogledu tega spektakla\, po koncertu pa se pridite podružiti\, lahko pa kaj pojeste 🍕 ali popite 🥂. \nVeč informacij pa lahko najdete na naših družbenih omrežjih 😊
URL:https://www.godbadpg.si/dogodek/noc-godbe-2024-premiera/
LOCATION:Športna dvorana Dobrova\, Cesta 7. maja 20\, 1356 Dobrova\, Dobrova\, Slovenija\, 1356\, Slovenija
ATTACH;FMTTYPE=image/jpeg:https://www.godbadpg.si/wp-content/uploads/2024/09/godba1.jpg
ORGANIZER;CN="Godba Dobrova - Polhov Gradec":MAILTO:godba.dpg@gmail.com
END:VEVENT
BEGIN:VEVENT
DTSTART;TZID=Africa/Abidjan:20240803T180000
DTEND;TZID=Africa/Abidjan:20240803T220000
DTSTAMP:20260419T233038
CREATED:20240716T080136Z
LAST-MODIFIED:20240716T080136Z
UID:1919-1722708000-1722722400@www.godbadpg.si
SUMMARY:Parada - Črni Vrh
DESCRIPTION:Letos bomo šli na parado PGD Črni Vrh. Pridi tudi ti in nas poslušaj.
URL:https://www.godbadpg.si/dogodek/parada-crni-vrh/
LOCATION:Črni Vrh\, Črni Vrh 37a Polhov Gradec\, Polhov Gradec\, Slovenija\, 5274\, Slovenija
END:VEVENT
BEGIN:VEVENT
DTSTART;TZID=Africa/Abidjan:20240501T050000
DTEND;TZID=Africa/Abidjan:20240501T130000
DTSTAMP:20260419T233038
CREATED:20240320T160204Z
LAST-MODIFIED:20240425T152444Z
UID:1248-1714539600-1714568400@www.godbadpg.si
SUMMARY:Prvomajska budnica - 2024
DESCRIPTION:Letos bomo imeli že značilno prvomajsko budnico. \nRazpored krajev je po tem vrstnem redu: \nBrezje – 5:20\, \nHorjul – 6:00\, \nVrzdenec – 6:15\, \nŠentjošt – 7:00\, \nPolhov Gradec – 8:00\, \nGabrje – 8:30\, \nŠujica – 9:15\, \nStranska vas – 9:50\, \nDobrova – 10:30\, \nPodsmreka – 11:15. \nVabljeni\, da nas pridete poslušati! \nSpremljajte nas na družbenih omrežjih in izvedite vse informacije. 🤳
URL:https://www.godbadpg.si/dogodek/prvomajska-budnica-2024/
LOCATION:Občina Dobrova – Polhov Gradec\, Slovenija
ATTACH;FMTTYPE=image/jpeg:https://www.godbadpg.si/wp-content/uploads/2024/04/viber_image_2024-04-23_13-55-40-397.jpg
ORGANIZER;CN="Godba Dobrova - Polhov Gradec":MAILTO:godba.dpg@gmail.com
END:VEVENT
BEGIN:VEVENT
DTSTART;TZID=Africa/Abidjan:20240412T193000
DTEND;TZID=Africa/Abidjan:20240412T193000
DTSTAMP:20260419T233038
CREATED:20240406T151946Z
LAST-MODIFIED:20240406T151946Z
UID:1757-1712950200-1712950200@www.godbadpg.si
SUMMARY:Pomladni nastop učencev Glasbene šole Emil Adamič
DESCRIPTION:Letos nas je Glasbena šola Emil Adamič povabila na Pomladni koncert. \nTam bomo tudi mi kaj zaigrali. \nVstop  je prost. \nPridite nas poslušati.😉 \n 
URL:https://www.godbadpg.si/dogodek/pomladni-nastop-ucencev-glasbene-sole-emil-adamic/
LOCATION:Športna dvorana Dobrova\, Cesta 7. maja 20\, 1356 Dobrova\, Dobrova\, Slovenija\, 1356\, Slovenija
ATTACH;FMTTYPE=image/jpeg:https://www.godbadpg.si/wp-content/uploads/2024/04/GSEA_Pomladni-koncert-12-APRIL-2024_400-x-300-cm-1-1-1200x912-1.jpg
ORGANIZER;CN="glasbena %C5%A1ola Emil Adami%C4%8D":MAILTO:info@gs-emiladamic.si
END:VEVENT
BEGIN:VEVENT
DTSTART;TZID=Africa/Abidjan:20240331T063000
DTEND;TZID=Africa/Abidjan:20240331T063000
DTSTAMP:20260419T233038
CREATED:20240320T160147Z
LAST-MODIFIED:20240320T160147Z
UID:1653-1711866600-1711866600@www.godbadpg.si
SUMMARY:Vstajenjska procesija - 2024
DESCRIPTION:Letos bomo imeli vstajenjsko procesijo. Začeli bomo že zelo zgodaj. \nPridite nas poslušati in spremljajte nas že naprej!😉
URL:https://www.godbadpg.si/dogodek/vstajenjska-procesija-2024/
LOCATION:Župnijska cerkev Marijinega vnebovzetja\, Ulica Emila Adamiča 52\, Dobrova\, Slovenija\, 1356\, Slovenija
END:VEVENT
END:VCALENDAR